BEGIN:VCALENDAR
PRODID:-//eluceo/ical//2.0/EN
VERSION:2.0
CALSCALE:GREGORIAN
BEGIN:VEVENT
UID:2a38f557cfb170c2a399072732a6baf3
DTSTAMP:20260422T034931Z
SUMMARY:Men's Virtual Night Out
DESCRIPTION:United Jewish Federation of Utah\nCalendar\nhttps://shalomutah.
 org/united-jewish-federation-of-utah-calendar/mens-virtual-night-out\n\nTo
 pic: TBA\n\nSpeaker: TBA
DTSTART;TZID=America/Denver:20210407T190000
DTEND;TZID=America/Denver:20210407T200000
END:VEVENT
END:VCALENDAR
