BEGIN:VCALENDAR
PRODID:-//eluceo/ical//2.0/EN
VERSION:2.0
CALSCALE:GREGORIAN
BEGIN:VEVENT
UID:e12d6a6d09ac27b8efc1c53f3d5e9e58
DTSTAMP:20260423T185325Z
SUMMARY:Men's Virtual Night Out
DESCRIPTION:United Jewish Federation of Utah\nCalendar\nhttps://shalomutah.
 org/united-jewish-federation-of-utah-calendar/mens-virtual-night-out-16118
 73090\n\nSpeaker: Michael Horowitz
DTSTART;TZID=America/Denver:20210224T190000
DTEND;TZID=America/Denver:20210224T200000
END:VEVENT
END:VCALENDAR
