BEGIN:VCALENDAR
PRODID:-//eluceo/ical//2.0/EN
VERSION:2.0
CALSCALE:GREGORIAN
BEGIN:VEVENT
UID:d4852629797810298d2def4261a6e5c8
DTSTAMP:20260421T113206Z
SUMMARY:Men's Virtual Night Out May 2021
DESCRIPTION:United Jewish Federation of Utah\nCalendar\nhttps://shalomutah.
 org/united-jewish-federation-of-utah-calendar/mens-virtual-night-out-may-2
 021\n\nSpeaker: Rabbi David Levinsky\, Temple Har Shalom\, Park City
DTSTART;TZID=America/Denver:20210512T190000
DTEND;TZID=America/Denver:20210512T200000
END:VEVENT
END:VCALENDAR
