BEGIN:VCALENDAR
PRODID:-//eluceo/ical//2.0/EN
VERSION:2.0
CALSCALE:GREGORIAN
BEGIN:VEVENT
UID:a7bf12cb3514e43f8a9dbfa648bd7b97
DTSTAMP:20260421T152847Z
SUMMARY:Miracle at Entebbe
DESCRIPTION:United Jewish Federation of Utah\nCalendar\nhttps://shalomutah.
 org/united-jewish-federation-of-utah-calendar/miracle-at-entebbe-148598876
 3\n\nJoin us for an exclusive evening with elite IDF commander Sassy Reuve
 n as he will share first hand accounts of how Israel pulled off the greate
 st hostage rescue in history.
DTSTART;TZID=America/Denver:20170228T190000
DTEND;TZID=America/Denver:20170228T210000
END:VEVENT
END:VCALENDAR
