BEGIN:VCALENDAR
PRODID:-//eluceo/ical//2.0/EN
VERSION:2.0
CALSCALE:GREGORIAN
BEGIN:VEVENT
UID:00824da671be63542ee8af064629df7a
DTSTAMP:20260420T140800Z
SUMMARY:Mitzvah Day 201
DESCRIPTION:United Jewish Federation of Utah\nCalendar\nhttps://shalomutah.
 org/united-jewish-federation-of-utah-calendar/mitzvah-day-201-1451939785\n
 \nA day of hands-on Social Action / Tikkun Olam in memory of Dr. Martin Lu
 ther King\, Jr.
DTSTART;TZID=America/Denver:20160117T090000
DTEND;TZID=America/Denver:20160117T120000
END:VEVENT
END:VCALENDAR
