BEGIN:VCALENDAR
PRODID:-//eluceo/ical//2.0/EN
VERSION:2.0
CALSCALE:GREGORIAN
BEGIN:VEVENT
UID:88f7ad100d08ead778a07f283231cf48
DTSTAMP:20260421T151424Z
SUMMARY:Mitzvah Project
DESCRIPTION:United Jewish Federation of Utah\nCalendar\nhttps://shalomutah.
 org/united-jewish-federation-of-utah-calendar/mitzvah-project-1479762600\n
 \nPlease join us on Sunday December 4th in the THS Social Hall at 9 am\nfo
 r a Mitzvah project to support Utah's refugees.\nWe will be making emergen
 cy food boxes for families which will be distributed by Utah Health and Hu
 man Rights. http://www.uhhr.org/\n\nRSVP to Audrey Chec (audrey@harshalomp
 arkcity.org) and let her know what you would like to donate\nand if you wi
 ll be attending\nA list of items needed can be found on our website: www.h
 arshalomparkcity.org on our special events page\nWe wil...
DTSTART;TZID=America/Denver:20161204T090000
DTEND;TZID=America/Denver:20161204T120000
END:VEVENT
END:VCALENDAR
