BEGIN:VCALENDAR
PRODID:-//eluceo/ical//2.0/EN
VERSION:2.0
CALSCALE:GREGORIAN
BEGIN:VEVENT
UID:f25c82edacf5fd08dfd1c51796e1edab
DTSTAMP:20260421T005137Z
SUMMARY:Momentum women’s Israel trip
DESCRIPTION:United Jewish Federation of Utah\nCalendar\nhttps://shalomutah.
 org/united-jewish-federation-of-utah-calendar/momentum-womens-israel-trip-
 1614885195\n\nJoin other Jewish moms in Israel for a life changing experie
 nce. Applications due in early April.
DTSTART;TZID=America/Denver:20210706T120000
DTEND;TZID=America/Denver:20210712T120000
END:VEVENT
END:VCALENDAR
