BEGIN:VCALENDAR
PRODID:-//eluceo/ical//2.0/EN
VERSION:2.0
CALSCALE:GREGORIAN
BEGIN:VEVENT
UID:3d7e0d4ba84c1ea987b496a431032762
DTSTAMP:20260421T111341Z
SUMMARY:"Most Likely to Succeed" Documentary Viewing at The McGillis School
DESCRIPTION:United Jewish Federation of Utah\nCalendar\nhttps://shalomutah.
 org/united-jewish-federation-of-utah-calendar/most-likely-to-succeed-docum
 entary-viewing-at-the-mcgillis-school-1445010671\n\nOur school system was 
 designed in 1893. Be part of the conversation. Join us for a community dis
 cussion on the future of education following the viewing of "Most Likely t
 o Succeed." The viewing and discussion will take place at The McGillis Sch
 ool in the M.A.C. (McGillis Activity Center).
DTSTART;TZID=America/Denver:20151027T160000
DTEND;TZID=America/Denver:20151027T180000
END:VEVENT
END:VCALENDAR
