BEGIN:VCALENDAR
PRODID:-//eluceo/ical//2.0/EN
VERSION:2.0
CALSCALE:GREGORIAN
BEGIN:VEVENT
UID:9e49ffb2ead783b7e95ee589b3cb7b9a
DTSTAMP:20260420T142223Z
SUMMARY:Movie\, Music & Memory
DESCRIPTION:United Jewish Federation of Utah\nCalendar\nhttps://shalomutah.
 org/united-jewish-federation-of-utah-calendar/movie-music--memory-14610972
 97\n\nFREE movie screening of Sundance Film Festival Award-Winning documen
 tary &quot\;ALIVE INSIDE.&quot\;  Reception at 6:30\, screening at 7:05\, 
 followed by brief presentation on JFS&#039\;s Music &amp\; Memory Program.
  Please bring an iTunes gift card or working iPod to donate to give the gi
 ft of music to a person with dementia. Call Ellie Goldberg at JFS at 801.7
 46.4334 with questions. 
DTSTART;TZID=America/Denver:20160509T183000
DTEND;TZID=America/Denver:20160509T210000
END:VEVENT
END:VCALENDAR
