BEGIN:VCALENDAR
PRODID:-//eluceo/ical//2.0/EN
VERSION:2.0
CALSCALE:GREGORIAN
BEGIN:VEVENT
UID:805f5a34219f43378877a4ea7b688e15
DTSTAMP:20260420T183525Z
SUMMARY:Movie Night - Who's Gonna Love Me Now?
DESCRIPTION:United Jewish Federation of Utah\nCalendar\nhttps://shalomutah.
 org/united-jewish-federation-of-utah-calendar/movie-night---whos-gonna-lov
 e-me-now-1515621497\n\nMovie Night - Who's Gonna Love Me Now? 2016\, Israe
 li and English w/ subtitles. Reception 6:15 PM\, Movie 7 PM.
DTSTART;TZID=America/Denver:20180208T181500
DTEND;TZID=America/Denver:20180208T203000
END:VEVENT
END:VCALENDAR
