BEGIN:VCALENDAR
PRODID:-//eluceo/ical//2.0/EN
VERSION:2.0
CALSCALE:GREGORIAN
BEGIN:VEVENT
UID:883b313c6d71f6823d407bbf0262cc9b
DTSTAMP:20260420T145449Z
SUMMARY:Movie Night -Sammy Davis Jr.: I've Gotta Be Me.
DESCRIPTION:United Jewish Federation of Utah\nCalendar\nhttps://shalomutah.
 org/united-jewish-federation-of-utah-calendar/movie-night--sammy-davis-jr-
 ive-gotta-be-me-1515622550\n\nSammy Davis\, Jr.: I’ve Gotta Be Me. USA\,
  2018\, 100 min.\nFilm starts at 7 PM.
DTSTART;TZID=America/Denver:20180306T190000
DTEND;TZID=America/Denver:20180306T210000
END:VEVENT
END:VCALENDAR
