BEGIN:VCALENDAR
PRODID:-//eluceo/ical//2.0/EN
VERSION:2.0
CALSCALE:GREGORIAN
BEGIN:VEVENT
UID:8f63d5469ecbeb42761d20e77513c0b6
DTSTAMP:20260421T185449Z
SUMMARY:Movie Night- The Big Lebowsky
DESCRIPTION:United Jewish Federation of Utah\nCalendar\nhttps://shalomutah.
 org/united-jewish-federation-of-utah-calendar/movie-night--the-big-lebowsk
 y-1490207086\n\nMovie night runs approximately once a month at the JCC.
DTSTART;TZID=America/Denver:20170430T163000
DTEND;TZID=America/Denver:20170430T200000
END:VEVENT
END:VCALENDAR
