BEGIN:VCALENDAR
PRODID:-//eluceo/ical//2.0/EN
VERSION:2.0
CALSCALE:GREGORIAN
BEGIN:VEVENT
UID:7c22f249f7762875558e18e1613052dd
DTSTAMP:20260420T180537Z
SUMMARY:My Son the Waiter
DESCRIPTION:United Jewish Federation of Utah\nCalendar\nhttps://shalomutah.
 org/united-jewish-federation-of-utah-calendar/my-son-the-waiter-1454352163
 \n\nA hilarious one man show\, distinctly original and poignant.\nSee more
  at www.bradzcomedy.com\nat Temple Har Shalom in Park City\, Utah\n3700 N.
  Brookside Court\, Park City 84060
DTSTART;TZID=America/Denver:20160224T190000
DTEND;TZID=America/Denver:20160224T220000
END:VEVENT
END:VCALENDAR
