BEGIN:VCALENDAR
PRODID:-//eluceo/ical//2.0/EN
VERSION:2.0
CALSCALE:GREGORIAN
BEGIN:VEVENT
UID:c6105d5d2797c2d5e4c1285fbdcee289
DTSTAMP:20260419T221139Z
SUMMARY:National Council of Jewish Women Membership Brunch
DESCRIPTION:United Jewish Federation of Utah\nCalendar\nhttps://shalomutah.
 org/united-jewish-federation-of-utah-calendar/national-council-of-jewish-w
 omen-membership-brunch-1441901560\n\nNCJW's annual Membership Brunch at th
 e JCC. This year we celebrate our Utah Section's 75th anniversary with "En
 tertaining Interludes\," a look back in history of Jews in America\, Utah 
 and Salt Lake City. Members: Free Guests: $15 Friends\, spouses\, partners
  are welcome.
DTSTART;TZID=America/Denver:20151004T093000
DTEND;TZID=America/Denver:20151004T113000
END:VEVENT
END:VCALENDAR
