BEGIN:VCALENDAR
PRODID:-//eluceo/ical//2.0/EN
VERSION:2.0
CALSCALE:GREGORIAN
BEGIN:VEVENT
UID:1dfd6177b14e03774b4d51ef9627eba4
DTSTAMP:20260421T101207Z
SUMMARY:NCJW Annual Membership Brunch
DESCRIPTION:United Jewish Federation of Utah\nCalendar\nhttps://shalomutah.
 org/united-jewish-federation-of-utah-calendar/ncjw-annual-membership-brunc
 h\n\nNCJW Brunch
DTSTART;TZID=America/Denver:20131006T100000
DTEND;TZID=America/Denver:20131006T123000
END:VEVENT
END:VCALENDAR
