BEGIN:VCALENDAR
PRODID:-//eluceo/ical//2.0/EN
VERSION:2.0
CALSCALE:GREGORIAN
BEGIN:VEVENT
UID:5cdf859560b2bae57f4efe01c540a823
DTSTAMP:20260422T235426Z
SUMMARY:NCJW UT Salute to Planned Parenthood "Happy Hour"
DESCRIPTION:United Jewish Federation of Utah\nCalendar\nhttps://shalomutah.
 org/united-jewish-federation-of-utah-calendar/ncjw-ut-salute-to-planned-pa
 renthood-happy-hour-1497551452\n\nIn light of looming federal cutbacks to 
 Planned Parenthood and to organizations that offer family planning interna
 tionally and mention abortion (the gov't plans to end all funding for both
 )\, NCJW UT\, which supports a woman's right to choose and access to contr
 aception- will host an informational\, fun "Happy Hour" with tapas and dri
 nks (alcoholic and not)\, at Rochelle Kaplan and Art Lipson's home\, from 
 5:30-7:30 PM on Thurs. June 29.Address: 8011 S. Dazzling View Circle\, Cot
 tonwood Hts\, UTRSVP...
DTSTART;TZID=America/Denver:20170629T000000
DTEND;TZID=America/Denver:20170629T000000
END:VEVENT
END:VCALENDAR
