BEGIN:VCALENDAR
PRODID:-//eluceo/ical//2.0/EN
VERSION:2.0
CALSCALE:GREGORIAN
BEGIN:VEVENT
UID:eba3135382dc9cda25a686b9a2523a8c
DTSTAMP:20260420T011241Z
SUMMARY:N'ilah Services
DESCRIPTION:United Jewish Federation of Utah\nCalendar\nhttps://shalomutah.
 org/united-jewish-federation-of-utah-calendar/nilah-services-1536089176\n\
 nJoin us for Congregation Brith Sholem's N'ilah Services followed by Break
 -The-Fast at 2760 Grant Ave.\, Ogden.
DTSTART;TZID=America/Denver:20180919T180000
DTEND;TZID=America/Denver:20180919T210000
END:VEVENT
END:VCALENDAR
