BEGIN:VCALENDAR
PRODID:-//eluceo/ical//2.0/EN
VERSION:2.0
CALSCALE:GREGORIAN
BEGIN:VEVENT
UID:c29953ad456ee1c27d8c0a82d9a59cf5
DTSTAMP:20260420T013958Z
SUMMARY:October 7th Commemoration
DESCRIPTION:United Jewish Federation of Utah\nCalendar\nhttps://shalomutah.
 org/united-jewish-federation-of-utah-calendar/october-7th-commemoration\n\
 nThe Utah Jewish community stands with Israel today\, tomorrow\, and alway
 s. Join us on October 7th at 5:30pm\, as we join together in solidarity 
 to commemorate the one-year anniversary of the October 7th attack. Partic
 ipants will include Jewish community leaders\, along with other religious\
 , political and community leaders\, who will share messages of remembrance
 \, togetherness\, and hope. Your presence will help bring comfort to all
  and will mean so much to us.\n\n\nState Capitol - South Stair...
DTSTART;TZID=America/Denver:20241007T173000
DTEND;TZID=America/Denver:20241007T190000
END:VEVENT
END:VCALENDAR
