BEGIN:VCALENDAR
PRODID:-//eluceo/ical//2.0/EN
VERSION:2.0
CALSCALE:GREGORIAN
BEGIN:VEVENT
UID:19d12a955d4642d5f286072a7fbb304e
DTSTAMP:20260420T014354Z
SUMMARY:Open Book: Sarah Hurwitz
DESCRIPTION:United Jewish Federation of Utah\nCalendar\nhttps://shalomutah.
 org/united-jewish-federation-of-utah-calendar/open-book-sarah-hurwitz\n\nO
 pen Book: Chapters and Conversations \nJoin us for a morning with visitin
 g author Sarah Hurwitz as she discusses her powerful new book: As a Jew
 : Reclaiming Our Story from Those Who Blame\, Shame\, and Try to Erase Us.
 \n\nRegister here: https://shalomutah.ticketspice.com/sarah-hurwitz-\n\nL
 ocationg Share after registratoin 
DTSTART;TZID=America/Denver:20251012T103000
DTEND;TZID=America/Denver:20251012T235900
END:VEVENT
END:VCALENDAR
