BEGIN:VCALENDAR
PRODID:-//eluceo/ical//2.0/EN
VERSION:2.0
CALSCALE:GREGORIAN
BEGIN:VEVENT
UID:a2c84d1393a0de681aa442cf04f99fc2
DTSTAMP:20260420T115904Z
SUMMARY:Open Sukkah
DESCRIPTION:United Jewish Federation of Utah\nCalendar\nhttps://shalomutah.
 org/united-jewish-federation-of-utah-calendar/open-sukkah-1475865916\n\nCe
 lebrate Sukkot with Rafi Schwartz Religous School.\nDo yourself a favor an
 d bring a friend they will want to see this Sukkah!!
DTSTART;TZID=America/Denver:20161016T113000
DTEND;TZID=America/Denver:20161016T123000
END:VEVENT
END:VCALENDAR
