BEGIN:VCALENDAR
PRODID:-//eluceo/ical//2.0/EN
VERSION:2.0
CALSCALE:GREGORIAN
BEGIN:VEVENT
UID:6aa8166f813026a982de137ff6e0b6b2
DTSTAMP:20260421T031633Z
SUMMARY:Park City's Virtual DIY "Super Unique" Menorah Making Project
DESCRIPTION:United Jewish Federation of Utah\nCalendar\nhttps://shalomutah.
 org/united-jewish-federation-of-utah-calendar/park-citys-virtual-diy-super
 -unique-menorah-making-project-1606760454\n\nJewnior NCSY. 5th-8th grade\n
 Once you register\, you will get the Zoom link and location to pick up sup
 plies.
DTSTART;TZID=America/Denver:20201212T190000
DTEND;TZID=America/Denver:20201212T200000
END:VEVENT
END:VCALENDAR
