BEGIN:VCALENDAR
PRODID:-//eluceo/ical//2.0/EN
VERSION:2.0
CALSCALE:GREGORIAN
BEGIN:VEVENT
UID:a5eb31dc4defd6a8e08a5cad36e08e69
DTSTAMP:20260421T025951Z
SUMMARY:Park City's Virtual DIY "Super Unique" Menorah Making Project
DESCRIPTION:United Jewish Federation of Utah\nCalendar\nhttps://shalomutah.
 org/united-jewish-federation-of-utah-calendar/park-citys-virtual-diy-super
 -unique-menorah-making-project-1606760604\n\nJSU 9th-12th grade\nOnce you'
 ve registered\, you will get a Zoom link and location to pick up supplies.
DTSTART;TZID=America/Denver:20201212T200000
DTEND;TZID=America/Denver:20201212T210000
END:VEVENT
END:VCALENDAR
