BEGIN:VCALENDAR
PRODID:-//eluceo/ical//2.0/EN
VERSION:2.0
CALSCALE:GREGORIAN
BEGIN:VEVENT
UID:cb6dc3602499bca8a15ff259da8fdba5
DTSTAMP:20260420T184907Z
SUMMARY:Pet Blessing
DESCRIPTION:United Jewish Federation of Utah\nCalendar\nhttps://shalomutah.
 org/united-jewish-federation-of-utah-calendar/pet-blessing-1476738660\n\nB
 lessing of the Pets\nAll are invited to join Rabbi Levinsky and his dog An
 gus\nfor a blessing of our pets.\nSunday October 23rd at 4 pm (weather per
 mitting)\nBackyard\, Temple Har Shalom\n\nPlease bring a donation for Nuzz
 les & Co.\nwww.harshalomparkcity.org\nPlease have all dogs on leash and ot
 her pets\nin appropriate carriers
DTSTART;TZID=America/Denver:20161023T160000
DTEND;TZID=America/Denver:20161023T163000
END:VEVENT
END:VCALENDAR
