BEGIN:VCALENDAR
PRODID:-//eluceo/ical//2.0/EN
VERSION:2.0
CALSCALE:GREGORIAN
BEGIN:VEVENT
UID:ea4da0dd0197335b96b0a98f3bc4f839
DTSTAMP:20260419T162558Z
SUMMARY:PJ Library: Apples & Honey
DESCRIPTION:United Jewish Federation of Utah\nCalendar\nhttps://shalomutah.
 org/united-jewish-federation-of-utah-calendar/pj-library-apples-honey\n\nJ
 oin PJ Library in partnership with Temple Har Shalom for a Rosh Hashanah e
 vent!\n\nInformation coming soon.
DTSTART;TZID=America/Denver:20240915T000000
DTEND;TZID=America/Denver:20240915T235959
END:VEVENT
END:VCALENDAR
