BEGIN:VCALENDAR
PRODID:-//eluceo/ical//2.0/EN
VERSION:2.0
CALSCALE:GREGORIAN
BEGIN:VEVENT
UID:54ad5364a86675da2676cdba7347fa71
DTSTAMP:20260422T124933Z
SUMMARY:PJ Library Build Your Own Shabbat
DESCRIPTION:United Jewish Federation of Utah\nCalendar\nhttps://shalomutah.
 org/united-jewish-federation-of-utah-calendar/pj-library-build-your-own-sh
 abbat\n\nFrom Friday sundown until Saturday sundown\, you can make the wor
 ld slow down and nurture yourselves before the new week begins with the PJ
  Community Shabbat Box. At the same time\, you will learn there is no righ
 t way to do Shabbat but many different ways to bring in the Sabbath with y
 ou and your family!\n\nActivities include:\nCome Build your own Challah\nD
 ecorate your own Kiddish cup\n& Much much more!\n\nEveryone is welcome but
  our recommendation for the age group this event is a toddler to...
DTSTART;TZID=America/Denver:20191027T160000
DTEND;TZID=America/Denver:20191027T180000
END:VEVENT
END:VCALENDAR
