BEGIN:VCALENDAR
PRODID:-//eluceo/ical//2.0/EN
VERSION:2.0
CALSCALE:GREGORIAN
BEGIN:VEVENT
UID:d873aeafa10f8b3c01d2e1eb90c78fb7
DTSTAMP:20260420T142213Z
SUMMARY:PJ Library: Clues to Ethiopian Jews!
DESCRIPTION:United Jewish Federation of Utah\nCalendar\nhttps://shalomutah.
 org/united-jewish-federation-of-utah-calendar/pj-library-clues-to-ethiopia
 n-jews\n\nJoin PJ Library and learn about Ethiopian Jews in celebration of
  Black History Month! We will taste injara\, traditional Ethiopian bread\,
  learn traditional dances\, and do a craft project. You won’t want to mi
 ss this!
DTSTART;TZID=America/Denver:20220203T143000
DTEND;TZID=America/Denver:20220203T153000
END:VEVENT
END:VCALENDAR
