BEGIN:VCALENDAR
PRODID:-//eluceo/ical//2.0/EN
VERSION:2.0
CALSCALE:GREGORIAN
BEGIN:VEVENT
UID:7f28fd5e2aab03dc2c7f089d53ca3d50
DTSTAMP:20260424T181427Z
SUMMARY:PJ Library: Fun in the Sun!
DESCRIPTION:United Jewish Federation of Utah\nCalendar\nhttps://shalomutah.
 org/united-jewish-federation-of-utah-calendar/pj-library-fun-in-the-sun\n\
 nJoin PJ Library & Temple Har Shalom at Willow Park for snacks\, crafts\, 
 and fun in the sun!
DTSTART;TZID=America/Denver:20220626T120000
DTEND;TZID=America/Denver:20220626T140000
END:VEVENT
END:VCALENDAR
