BEGIN:VCALENDAR
PRODID:-//eluceo/ical//2.0/EN
VERSION:2.0
CALSCALE:GREGORIAN
BEGIN:VEVENT
UID:ce4d16e8d0dde3e1659c42e55c66fece
DTSTAMP:20260422T123608Z
SUMMARY:PJ Library Fun in the Sun
DESCRIPTION:United Jewish Federation of Utah\nCalendar\nhttps://shalomutah.
 org/united-jewish-federation-of-utah-calendar/pj-library-fun-in-the-sun-02
 4\n\nEnjoy the summer with PJ Library! Join us at Sugarhouse Park for craf
 ts\, water balls\, and games that test your knowledge of Jewish words.\n\n
 The exact location is shared after registration. \n\nRegister here: https
 ://shalomutah.regfox.com/pj-library-fun-in-the-sun-024
DTSTART;TZID=America/Denver:20240630T103000
DTEND;TZID=America/Denver:20240630T120000
END:VEVENT
END:VCALENDAR
