BEGIN:VCALENDAR
PRODID:-//eluceo/ical//2.0/EN
VERSION:2.0
CALSCALE:GREGORIAN
BEGIN:VEVENT
UID:1af2b970ed661dd835c7462151e9b053
DTSTAMP:20260422T091103Z
SUMMARY:PJ Library Maccabi Game Day 2020
DESCRIPTION:United Jewish Federation of Utah\nCalendar\nhttps://shalomutah.
 org/united-jewish-federation-of-utah-calendar/pj-library-maccabi-game-day-
 2020\n\nMore details to come
DTSTART;TZID=America/Denver:20200301T150000
DTEND;TZID=America/Denver:20200301T170000
END:VEVENT
END:VCALENDAR
