BEGIN:VCALENDAR
PRODID:-//eluceo/ical//2.0/EN
VERSION:2.0
CALSCALE:GREGORIAN
BEGIN:VEVENT
UID:1f4a505622e180c0bfc6e7297df9b662
DTSTAMP:20260419T162904Z
SUMMARY:PJ Library: Menorah Workshop (Park City)
DESCRIPTION:United Jewish Federation of Utah\nCalendar\nhttps://shalomutah.
 org/united-jewish-federation-of-utah-calendar/pj-library-menorah-workshop-
 park-city-024\n\nJoin PJ Library with Temple Har Shalom for a menorah work
 shop! Create\, build\, and beautify your very own menorah to use during th
 e holidays!\nRegister here:\n\nhttps://www.harshalomparkcity.org/form/meno
 rah-2024.html
DTSTART;TZID=America/Denver:20241208T000000
DTEND;TZID=America/Denver:20241208T235959
END:VEVENT
END:VCALENDAR
