BEGIN:VCALENDAR
PRODID:-//eluceo/ical//2.0/EN
VERSION:2.0
CALSCALE:GREGORIAN
BEGIN:VEVENT
UID:7881799a9aeac20a26a50109600b876a
DTSTAMP:20260421T022243Z
SUMMARY:PJ Library: Neighborhood Pop-Up
DESCRIPTION:United Jewish Federation of Utah\nCalendar\nhttps://shalomutah.
 org/united-jewish-federation-of-utah-calendar/pj-library-neighborhood-pop-
 up-jul-28-024\n\nJoin PJ Library for a neighborhood pop-up!\n\nContact Yah
 elle Yaccoby to learn more about this pop-up.\n\nyyaccoby@shalomutah.org
DTSTART;TZID=America/Denver:20240728T103000
DTEND;TZID=America/Denver:20240728T123000
END:VEVENT
END:VCALENDAR
