BEGIN:VCALENDAR
PRODID:-//eluceo/ical//2.0/EN
VERSION:2.0
CALSCALE:GREGORIAN
BEGIN:VEVENT
UID:c359c9fa1c4bb7933c5a3898ad9aa889
DTSTAMP:20260421T091744Z
SUMMARY:PJ Library: Park City Summer
DESCRIPTION:United Jewish Federation of Utah\nCalendar\nhttps://shalomutah.
 org/united-jewish-federation-of-utah-calendar/pj-library-park-city-summers
 -jul-024\n\nJoin PJ Library Utah in Park City!\n\nRegister here: https://s
 halomutah.regfox.com/pj-fun-in-the-sun-pc\n\n \n \n 
DTSTART;TZID=America/Denver:20240723T163000
DTEND;TZID=America/Denver:20240723T183000
END:VEVENT
END:VCALENDAR
