BEGIN:VCALENDAR
PRODID:-//eluceo/ical//2.0/EN
VERSION:2.0
CALSCALE:GREGORIAN
BEGIN:VEVENT
UID:a57a42ca4e8fa86d42505262737ae19f
DTSTAMP:20260423T232010Z
SUMMARY:PJ Library: Small Hands Big Things
DESCRIPTION:United Jewish Federation of Utah\nCalendar\nhttps://shalomutah.
 org/united-jewish-federation-of-utah-calendar/pj-library-small-hands-big-t
 hings\n\nJoin PJ Library Utah in Sugarhouse Park to learn about 26 big thi
 ngs small hands do! Together we are going to show gratitude to the people 
 and things we love through painting. Small hands can do big things and cre
 ate beautiful works of art. \n\nCome share what makes you thankful and br
 ing home a new PJ Library book!\n\nWhen: November 20th at 2:30 pm \n\nWhe
 re: Sugarhouse Park. Specific location information given after registrati
 on.\n\nRegister here: https://shalomutah.regfox.com/pj-library...
DTSTART;TZID=America/Denver:20221120T143000
DTEND;TZID=America/Denver:20221120T163000
END:VEVENT
END:VCALENDAR
