BEGIN:VCALENDAR
PRODID:-//eluceo/ical//2.0/EN
VERSION:2.0
CALSCALE:GREGORIAN
BEGIN:VEVENT
UID:e7337482dc35a60ab97db38181098f84
DTSTAMP:20260421T042358Z
SUMMARY:PJ Library: Spectacular Shabbat
DESCRIPTION:United Jewish Federation of Utah\nCalendar\nhttps://shalomutah.
 org/united-jewish-federation-of-utah-calendar/pj-library-spectacular-shabb
 at\n\nJoin PJ Library Utah for a Shabbat experience! Challah\, snacks\, an
 d drinks will be provided. Parents\, please bring your favorite dip to sha
 re with other families. Vegetarian and nut-free dips only\, thank you!\n\n
 - Learn how to make and braid challah without stress! \n\n- Decorate a Ki
 ddish cup! \n\n- Learn the Shabbat blessings!\n\n- Create a Shabbat kit w
 ith everything you need to celebrate a spectacular Shabbat!\n\nRegister he
 re: https://shalomutah.regfox.com/pj-library-spectacular-shabbat
DTSTART;TZID=America/Denver:20230907T180000
DTEND;TZID=America/Denver:20230907T200000
END:VEVENT
END:VCALENDAR
