BEGIN:VCALENDAR
PRODID:-//eluceo/ical//2.0/EN
VERSION:2.0
CALSCALE:GREGORIAN
BEGIN:VEVENT
UID:c4e443cec978784e5ed1c59e56b09212
DTSTAMP:20260422T022750Z
SUMMARY:PJ Library: Sukkot PC
DESCRIPTION:United Jewish Federation of Utah\nCalendar\nhttps://shalomutah.
 org/united-jewish-federation-of-utah-calendar/pj-library-sukkot-celebratio
 n-2024\n\nJoin us at Temple Har Shalom\, in partnership with PJ Library! T
 his is part of THS' erev sukkot activities. Together we will make decorati
 ons for the THS sukkah and build DIY sukkahs out of household objects. Piz
 za provided. \n\n \n\nThis event is made possible through an engagement 
 grant from PJ Library\, a program of the Harold Grinspoon Foundation.\n\nR
 egistration required.
DTSTART;TZID=America/Denver:20241016T000000
DTEND;TZID=America/Denver:20241016T235959
END:VEVENT
END:VCALENDAR
