BEGIN:VCALENDAR
PRODID:-//eluceo/ical//2.0/EN
VERSION:2.0
CALSCALE:GREGORIAN
BEGIN:VEVENT
UID:2a0205c967102a09932d7089140a32c0
DTSTAMP:20260424T133123Z
SUMMARY:PJ Library: Tu B'Shevat
DESCRIPTION:United Jewish Federation of Utah\nCalendar\nhttps://shalomutah.
 org/united-jewish-federation-of-utah-calendar/pj-library-tu-bshevat-jan-20
 24\n\nExperience a shortened Tu B'Shevat Seder with your PJ Library family
 !\n\n\nLearn the Tu B'Shevat blessings while enjoyed an abbreviated Tu B'S
 hevat Seder!\nPlant parsley that will be ready for Passover!\nCreate cards
  for Jewish Family Service\, to be given to seniors in our community!\n\n\
 nRegister here: https://shalomutah.regfox.com/pj-library-tu-bshevat-
DTSTART;TZID=America/Denver:20240121T153000
DTEND;TZID=America/Denver:20240121T163000
END:VEVENT
END:VCALENDAR
