BEGIN:VCALENDAR
PRODID:-//eluceo/ical//2.0/EN
VERSION:2.0
CALSCALE:GREGORIAN
BEGIN:VEVENT
UID:7cf9a302595405b71a4397344e26a16f
DTSTAMP:20260421T231243Z
SUMMARY:Pop-Up Class! Decoding The Torah with Gematria with Michael Greenfi
 eld
DESCRIPTION:United Jewish Federation of Utah\nCalendar\nhttps://shalomutah.
 org/united-jewish-federation-of-utah-calendar/pop-up-class-decoding-the-to
 rah-with-gematria-with-michael-greenfield-1540397035\n\nThe simple math th
 at connects the very Jewish number 18 to the word Life is the tiniest tip 
 of the iceberg known as Gematria. For centuries\, Jewish rabbis and schola
 rs have studied the numerical value of words to find beautiful\, meaningfu
 l\, and hidden connections throughout the Torah and across Jewish culture.
  We'll study some of those connections and ask questions about what they m
 ean. For this class\, if you can add small numbers together\, you can do G
 ematria.\nRSVP to Michael Greenfield at ...
DTSTART;TZID=America/Denver:20181108T190000
DTEND;TZID=America/Denver:20181108T203000
END:VEVENT
END:VCALENDAR
