BEGIN:VCALENDAR
PRODID:-//eluceo/ical//2.0/EN
VERSION:2.0
CALSCALE:GREGORIAN
BEGIN:VEVENT
UID:14db7017f9ea7dd068b83f4c9d314a70
DTSTAMP:20260421T075401Z
SUMMARY:Pride Passover Seder
DESCRIPTION:United Jewish Federation of Utah\nCalendar\nhttps://shalomutah.
 org/united-jewish-federation-of-utah-calendar/pride-passover-seder\n\n2nd 
 Annual Pride Passover Seder\n\nJoin lesbian\, gay\, bisexual\, transgender
 \, queer\, and allied Jews\, along with our families and friends for a Sed
 er to remember.\n\nFood will be Kosher & Kosher for Passover\n\nRSVP By Ap
 ril 17th\n\nLink to Register: https://www.picatic.com/event15487861794169\
 n\nLocation:\nI J & Jeanné Wagner Jewish Community Center\n2 N Medical Dr
 ive\, Salt Lake City\, UT\, United States
DTSTART;TZID=America/Denver:20190422T180000
DTEND;TZID=America/Denver:20190422T210000
END:VEVENT
END:VCALENDAR
