BEGIN:VCALENDAR
PRODID:-//eluceo/ical//2.0/EN
VERSION:2.0
CALSCALE:GREGORIAN
BEGIN:VEVENT
UID:d279f5363c307dde9738d50c3182b030
DTSTAMP:20260421T212103Z
SUMMARY:Pride Passover Seder 2020
DESCRIPTION:United Jewish Federation of Utah\nCalendar\nhttps://shalomutah.
 org/united-jewish-federation-of-utah-calendar/pride-passover-seder-2020\n\
 nMore details to come :)
DTSTART;TZID=America/Denver:20200413T180000
DTEND;TZID=America/Denver:20200413T210000
END:VEVENT
END:VCALENDAR
