BEGIN:VCALENDAR
PRODID:-//eluceo/ical//2.0/EN
VERSION:2.0
CALSCALE:GREGORIAN
BEGIN:VEVENT
UID:da637b83f8dca46195630b30066c3653
DTSTAMP:20260420T231849Z
SUMMARY:Pride Passover Seder 2021
DESCRIPTION:United Jewish Federation of Utah\nCalendar\nhttps://shalomutah.
 org/united-jewish-federation-of-utah-calendar/pride-passover-seder-2021\n\
 n4th Annual Pride Passover Seder\n\nRegistration required with this link:\
 n\n https://us02web.zoom.us/meeting/register/tZcqduGpqzgiG9VUoMPFds-WDR81
 5fNGMBYV
DTSTART;TZID=America/Denver:20210329T183000
DTEND;TZID=America/Denver:20210329T193000
END:VEVENT
END:VCALENDAR
