BEGIN:VCALENDAR
PRODID:-//eluceo/ical//2.0/EN
VERSION:2.0
CALSCALE:GREGORIAN
BEGIN:VEVENT
UID:36895e269fac50286f5c5c459f609f77
DTSTAMP:20260420T193247Z
SUMMARY:Purim - Megillah & Carnival
DESCRIPTION:United Jewish Federation of Utah\nCalendar\nhttps://shalomutah.
 org/united-jewish-federation-of-utah-calendar/purim---megillah--carnival-1
 479509604\n\nPurim Services\, Megillah Reading\, Youth participation\, Com
 munity Carnival
DTSTART;TZID=America/Denver:20170312T083000
DTEND;TZID=America/Denver:20170312T140000
END:VEVENT
END:VCALENDAR
