BEGIN:VCALENDAR
PRODID:-//eluceo/ical//2.0/EN
VERSION:2.0
CALSCALE:GREGORIAN
BEGIN:VEVENT
UID:8f7f0b846f25726b6bf2d9909fb78c61
DTSTAMP:20260420T173736Z
SUMMARY:Purim at the Circus!
DESCRIPTION:United Jewish Federation of Utah\nCalendar\nhttps://shalomutah.
 org/united-jewish-federation-of-utah-calendar/purim-at-the-circus-14567883
 70\n\nCHABAD'S 24TH ANNUAL PURIM BASH FOR THE ENTIRE FAMILY! Join us for a
  festive evening with a full Kosher Dinner\, Sliders Bar\, circus-themed d
 ecorations and treats\, face-painting\, Hamantashen\, Lchaim and.....A COM
 EDY HYPNOSIS SHOW FROM THE WORLD RENOWNED ALAN SANDS! Megilla Reading at 5
 :30 PM followed by Festive Purim Dinner! RSVP to cszippel@gmail.com
DTSTART;TZID=America/Denver:20160324T173000
DTEND;TZID=America/Denver:20160324T210000
END:VEVENT
END:VCALENDAR
