BEGIN:VCALENDAR
PRODID:-//eluceo/ical//2.0/EN
VERSION:2.0
CALSCALE:GREGORIAN
BEGIN:VEVENT
UID:3c9757d79c3c9043dfed2ff3fe071af5
DTSTAMP:20260422T092924Z
SUMMARY:Purim Services & Megillah Reading
DESCRIPTION:United Jewish Federation of Utah\nCalendar\nhttps://shalomutah.
 org/united-jewish-federation-of-utah-calendar/purim-services--megillah-rea
 ding-1456862245\n\nJoin us bright and early for Shacharit and chanting of 
 Megillat Esther.
DTSTART;TZID=America/Denver:20160324T073000
DTEND;TZID=America/Denver:20160324T213000
END:VEVENT
END:VCALENDAR
