BEGIN:VCALENDAR
PRODID:-//eluceo/ical//2.0/EN
VERSION:2.0
CALSCALE:GREGORIAN
BEGIN:VEVENT
UID:b57749d64d4686db7044716869bafbc6
DTSTAMP:20260420T130715Z
SUMMARY:Rabbi Ilana Farewell Dinner
DESCRIPTION:United Jewish Federation of Utah\nCalendar\nhttps://shalomutah.
 org/united-jewish-federation-of-utah-calendar/rabbi-ilana-farewell-dinner-
 1493755184\n\nJoin us to say goodbye to Rabbi Ilana Schwartzman and thank 
 her for her service to Congregation Kol Ami and the Utah Jewish community.
DTSTART;TZID=America/Denver:20180224T180000
DTEND;TZID=America/Denver:20180224T200000
END:VEVENT
END:VCALENDAR
