BEGIN:VCALENDAR
PRODID:-//eluceo/ical//2.0/EN
VERSION:2.0
CALSCALE:GREGORIAN
BEGIN:VEVENT
UID:e983ff132fd21faab157048a23e3f4e6
DTSTAMP:20260421T073210Z
SUMMARY:Rabbi Samuel Spector Installation
DESCRIPTION:United Jewish Federation of Utah\nCalendar\nhttps://shalomutah.
 org/united-jewish-federation-of-utah-calendar/rabbi-samuel-spector-install
 ation-1536498941\n\nCongregation Kol Ami will install Rabbi Spector at ser
 vice at 9 am and Celbrate his installation at a celebration Saturday eveni
 ng.
DTSTART;TZID=America/Denver:20181201T000000
DTEND;TZID=America/Denver:20181201T000000
END:VEVENT
END:VCALENDAR
