BEGIN:VCALENDAR
PRODID:-//eluceo/ical//2.0/EN
VERSION:2.0
CALSCALE:GREGORIAN
BEGIN:VEVENT
UID:49a8e94251205414f51b175f37586f39
DTSTAMP:20260419T180020Z
SUMMARY:Rabbi's Chinese Dinner
DESCRIPTION:United Jewish Federation of Utah\nCalendar\nhttps://shalomutah.
 org/united-jewish-federation-of-utah-calendar/rabbis-chinese-dinner-173032
 1671\n\nFamily friendly evening with Chinese food cooked by Rabbi Sam Spec
 tor.
DTSTART;TZID=America/Denver:20241225T180000
DTEND;TZID=America/Denver:20241225T200000
END:VEVENT
END:VCALENDAR
