BEGIN:VCALENDAR
PRODID:-//eluceo/ical//2.0/EN
VERSION:2.0
CALSCALE:GREGORIAN
BEGIN:VEVENT
UID:c96ca21cf1f94b8429803306a0203c44
DTSTAMP:20260421T025355Z
SUMMARY:Red\, White and Jew-Hike & BBQ!
DESCRIPTION:United Jewish Federation of Utah\nCalendar\nhttps://shalomutah.
 org/united-jewish-federation-of-utah-calendar/red-white-and-jew-hike--bbq-
 1466011237\n\nCelebrate your Independence with the Chabad Young SLC commun
 ity! The afternoon will feature an indermediate\, scenic hike (Cecret Lake
  Trail in Little Cottonwood Canyon)\, followed by a full Kosher BBQ at a p
 rivate location (RSVP for the address)! For Jewish men and women\, ages 21
 -35!Monday\, July 4th\, 2016Meet at Albion Basin Campground at 3:30 PM BBQ
  at the Home of Avremi & Sheina Zippel at 6:30 PMTickets (for BBQ\, the hi
 ke is free): $15 per person\, $25 per couple\, $50 sponsorFor more informa
 t...
DTSTART;TZID=America/Denver:20160704T153000
DTEND;TZID=America/Denver:20160704T210000
END:VEVENT
END:VCALENDAR
