BEGIN:VCALENDAR
PRODID:-//eluceo/ical//2.0/EN
VERSION:2.0
CALSCALE:GREGORIAN
BEGIN:VEVENT
UID:c2ef716c0f784e0e28c933e0ad0645f7
DTSTAMP:20260420T114052Z
SUMMARY:Refugees Among Us
DESCRIPTION:United Jewish Federation of Utah\nCalendar\nhttps://shalomutah.
 org/united-jewish-federation-of-utah-calendar/refugees-among-us-1423612881
 \n\nCome and  take part in our annual human Rights event on February 19\, 
 featuring speakers and performers from the local refugee community at the 
 Jewish Community Center\n\n
DTSTART;TZID=America/Denver:20150219T183000
DTEND;TZID=America/Denver:20150219T213000
END:VEVENT
END:VCALENDAR
