BEGIN:VCALENDAR
PRODID:-//eluceo/ical//2.0/EN
VERSION:2.0
CALSCALE:GREGORIAN
BEGIN:VEVENT
UID:07cc10f10e89fe5a1ee9f4c9708f30e2
DTSTAMP:20260420T131505Z
SUMMARY:Refugees Among Us at the Jewish Community Center
DESCRIPTION:United Jewish Federation of Utah\nCalendar\nhttps://shalomutah.
 org/united-jewish-federation-of-utah-calendar/refugees-among-us-at-the-jew
 ish-community-center\n\nRefugees Among Us
DTSTART;TZID=America/Denver:20130117T190000
DTEND;TZID=America/Denver:20130117T210000
END:VEVENT
END:VCALENDAR
