BEGIN:VCALENDAR
PRODID:-//eluceo/ical//2.0/EN
VERSION:2.0
CALSCALE:GREGORIAN
BEGIN:VEVENT
UID:8cf01ffccc78c0466b73a4efe7abdf9f
DTSTAMP:20260420T235513Z
SUMMARY:Religious School Open House & Brunch
DESCRIPTION:United Jewish Federation of Utah\nCalendar\nhttps://shalomutah.
 org/united-jewish-federation-of-utah-calendar/religious-school-open-house-
 -brunch-1470792629\n\nEat brunch\, meet teachers\, connect with friends\, 
 find out about volunteer opportunities\, discover new ways for your childr
 en to get involved at synagogue\, and register for Religious School!
DTSTART;TZID=America/Denver:20160828T100000
DTEND;TZID=America/Denver:20160828T120000
END:VEVENT
END:VCALENDAR
